{
 "currentVersion": 10.61,
 "serviceDescription": "The Great Plains Landscape Conservation Cooperative (GPLCC, http://www.greatplainslcc.org/) is a partnership that provides applied science and decision support tools to assist natural resource managers conserve plants, fish and wildlife in the mid- and short-grass prairie of the southern Great Plains. It is part of a national network of public-private partnerships \u2014 known as Landscape Conservation Cooperatives (LCCs, http://www.fws.gov/science/shc/lcc.html) \u2014 that work collaboratively across jurisdictions and political boundaries to leverage resources and share science capacity. The Great Plains LCC identifies science priorities for the region and helps foster science that addresses these priorities to support wildlife conservation throughout the Great Plains region. It also assists partners in building their own capacity to address scientific challenges associated with our rapidly changing environment.\nThese data were compiled because the information did not previously exist as a single resource for the GPLCC area. They are intended to inform local and regional conservation and management strategies with a complete regional perspective. \n\nAbstract provided by original data sources: \n\"This file contains one of many raster grids of the Elevation Derivatives for National Applications (EDNA), a multi-layered database that provides systematic and consistent topographically-derived hydrologic derivatives. The aspect grid defines downslope direction. Non-defined aspect (slope = 0) are assigned a value of -1. Aspect values are floating point from 0 to 360 degrees.\"\n\nData were the best available at the time of compilation (2011) with current information represented by a combination of national-scale datasets and state or other regional data (e.g. soils) that could be reasonably aggregated.",
 "name": "Catalog/__image_template__",
 "description": "The Great Plains Landscape Conservation Cooperative (GPLCC, http://www.greatplainslcc.org/) is a partnership that provides applied science and decision support tools to assist natural resource managers conserve plants, fish and wildlife in the mid- and short-grass prairie of the southern Great Plains. It is part of a national network of public-private partnerships \u2014 known as Landscape Conservation Cooperatives (LCCs, http://www.fws.gov/science/shc/lcc.html) \u2014 that work collaboratively across jurisdictions and political boundaries to leverage resources and share science capacity. The Great Plains LCC identifies science priorities for the region and helps foster science that addresses these priorities to support wildlife conservation throughout the Great Plains region. It also assists partners in building their own capacity to address scientific challenges associated with our rapidly changing environment.\nThese data were compiled because the information did not previously exist as a single resource for the GPLCC area. They are intended to inform local and regional conservation and management strategies with a complete regional perspective. \n\nAbstract provided by original data sources: \n\"This file contains one of many raster grids of the Elevation Derivatives for National Applications (EDNA), a multi-layered database that provides systematic and consistent topographically-derived hydrologic derivatives. The aspect grid defines downslope direction. Non-defined aspect (slope = 0) are assigned a value of -1. Aspect values are floating point from 0 to 360 degrees.\"\n\nData were the best available at the time of compilation (2011) with current information represented by a combination of national-scale datasets and state or other regional data (e.g. soils) that could be reasonably aggregated.",
 "extent": {
  "xmin": -849232.4313999993,
  "ymin": 843080.5355773345,
  "xmax": -21832.431399999303,
  "ymax": 2327210.5355773345,
  "spatialReference": {
   "wkt": "PROJCS[\"NAD_1983_Albers\",GEOGCS[\"GCS_North_American_1983\",DATUM[\"D_North_American_1983\",SPHEROID[\"GRS_1980\",6378137.0,298.257222101]],PRIMEM[\"Greenwich\",0.0],UNIT[\"Degree\",0.0174532925199433]],PROJECTION[\"Albers\"],PARAMETER[\"false_easting\",0.0],PARAMETER[\"false_northing\",0.0],PARAMETER[\"central_meridian\",-96.0],PARAMETER[\"standard_parallel_1\",29.5],PARAMETER[\"standard_parallel_2\",45.5],PARAMETER[\"latitude_of_origin\",23.0],UNIT[\"Meter\",1.0]]"
  }
 },
 "initialExtent": {
  "xmin": -849232.4313999993,
  "ymin": 843080.5355773345,
  "xmax": -21832.431399999303,
  "ymax": 2327210.5355773345,
  "spatialReference": {
   "wkt": "PROJCS[\"NAD_1983_Albers\",GEOGCS[\"GCS_North_American_1983\",DATUM[\"D_North_American_1983\",SPHEROID[\"GRS_1980\",6378137.0,298.257222101]],PRIMEM[\"Greenwich\",0.0],UNIT[\"Degree\",0.0174532925199433]],PROJECTION[\"Albers\"],PARAMETER[\"false_easting\",0.0],PARAMETER[\"false_northing\",0.0],PARAMETER[\"central_meridian\",-96.0],PARAMETER[\"standard_parallel_1\",29.5],PARAMETER[\"standard_parallel_2\",45.5],PARAMETER[\"latitude_of_origin\",23.0],UNIT[\"Meter\",1.0]]"
  }
 },
 "fullExtent": {
  "xmin": -849232.4313999993,
  "ymin": 843080.5355773345,
  "xmax": -21832.431399999303,
  "ymax": 2327210.5355773345,
  "spatialReference": {
   "wkt": "PROJCS[\"NAD_1983_Albers\",GEOGCS[\"GCS_North_American_1983\",DATUM[\"D_North_American_1983\",SPHEROID[\"GRS_1980\",6378137.0,298.257222101]],PRIMEM[\"Greenwich\",0.0],UNIT[\"Degree\",0.0174532925199433]],PROJECTION[\"Albers\"],PARAMETER[\"false_easting\",0.0],PARAMETER[\"false_northing\",0.0],PARAMETER[\"central_meridian\",-96.0],PARAMETER[\"standard_parallel_1\",29.5],PARAMETER[\"standard_parallel_2\",45.5],PARAMETER[\"latitude_of_origin\",23.0],UNIT[\"Meter\",1.0]]"
  }
 },
 "pixelSizeX": 30,
 "pixelSizeY": 30,
 "bandCount": 1,
 "pixelType": "F32",
 "minPixelSize": 0,
 "maxPixelSize": 0,
 "copyrightText": "",
 "serviceDataType": "esriImageServiceDataTypeGeneric",
 "minValues": [
  -1
 ],
 "maxValues": [
  360
 ],
 "meanValues": [
  157.11371253004
 ],
 "stdvValues": [
  101.79306985363
 ],
 "objectIdField": "",
 "fields": [],
 "capabilities": "Image,Metadata,Mensuration",
 "defaultMosaicMethod": "Center",
 "allowedMosaicMethods": "",
 "sortField": "",
 "sortValue": null,
 "mosaicOperator": "First",
 "defaultCompressionQuality": 75,
 "defaultResamplingMethod": "Bilinear",
 "maxImageHeight": 4100,
 "maxImageWidth": 15000,
 "allowRasterFunction": true,
 "rasterFunctionInfos": [
  {
   "name": "None",
   "description": "",
   "help": ""
  }
 ],
 "rasterTypeInfos": [
  {
   "name": "Raster Dataset",
   "description": "Supports all ArcGIS Raster Datasets",
   "help": ""
  }
 ],
 "mensurationCapabilities": "Basic",
 "hasHistograms": true,
 "hasColormap": false,
 "hasRasterAttributeTable": false,
 "minScale": 0,
 "maxScale": 0,
 "exportTilesAllowed": false,
 "hasMultidimensions": false,
 "supportsStatistics": false,
 "supportsAdvancedQueries": false,
 "editFieldsInfo": null,
 "ownershipBasedAccessControlForRasters": null,
 "allowComputeTiePoints": false,
 "useStandardizedQueries": true,
 "advancedQueryCapabilities": {
  "useStandardizedQueries": true,
  "supportsStatistics": false,
  "supportsOrderBy": false,
  "supportsDistinct": false,
  "supportsPagination": false
 },
 "spatialReference": {
  "wkt": "PROJCS[\"NAD_1983_Albers\",GEOGCS[\"GCS_North_American_1983\",DATUM[\"D_North_American_1983\",SPHEROID[\"GRS_1980\",6378137.0,298.257222101]],PRIMEM[\"Greenwich\",0.0],UNIT[\"Degree\",0.0174532925199433]],PROJECTION[\"Albers\"],PARAMETER[\"false_easting\",0.0],PARAMETER[\"false_northing\",0.0],PARAMETER[\"central_meridian\",-96.0],PARAMETER[\"standard_parallel_1\",29.5],PARAMETER[\"standard_parallel_2\",45.5],PARAMETER[\"latitude_of_origin\",23.0],UNIT[\"Meter\",1.0]]"
 }
}
