View In:
ArcGIS JavaScript
ArcGIS Online map viewer
ArcGIS Earth
ArcMap
View Footprint In:
ArcGIS Online map viewer
Service Description: The Great Plains Landscape Conservation Cooperative (GPLCC, http://www.greatplainslcc.org/) is a partnership that provides applied science and decision support tools to assist natural resource managers conserve plants, fish and wildlife in the mid- and short-grass prairie of the southern Great Plains. It is part of a national network of public-private partnerships — known as Landscape Conservation Cooperatives (LCCs, http://www.fws.gov/science/shc/lcc.html) — that work collaboratively across jurisdictions and political boundaries to leverage resources and share science capacity. The Great Plains LCC identifies science priorities for the region and helps foster science that addresses these priorities to support wildlife conservation throughout the Great Plains region. It also assists partners in building their own capacity to address scientific challenges associated with our rapidly changing environment.
These data were compiled because the information did not previously exist as a single resource for the GPLCC area. They are intended to inform local and regional conservation and management strategies with a complete regional perspective.
Abstract provided by original data sources:
"This file contains one of many raster grids of the Elevation Derivatives for National Applications (EDNA), a multi-layered database that provides systematic and consistent topographically-derived hydrologic derivatives. The aspect grid defines downslope direction. Non-defined aspect (slope = 0) are assigned a value of -1. Aspect values are floating point from 0 to 360 degrees."
Data were the best available at the time of compilation (2011) with current information represented by a combination of national-scale datasets and state or other regional data (e.g. soils) that could be reasonably aggregated.
Name: Catalog/__image_template__
Description: The Great Plains Landscape Conservation Cooperative (GPLCC, http://www.greatplainslcc.org/) is a partnership that provides applied science and decision support tools to assist natural resource managers conserve plants, fish and wildlife in the mid- and short-grass prairie of the southern Great Plains. It is part of a national network of public-private partnerships — known as Landscape Conservation Cooperatives (LCCs, http://www.fws.gov/science/shc/lcc.html) — that work collaboratively across jurisdictions and political boundaries to leverage resources and share science capacity. The Great Plains LCC identifies science priorities for the region and helps foster science that addresses these priorities to support wildlife conservation throughout the Great Plains region. It also assists partners in building their own capacity to address scientific challenges associated with our rapidly changing environment.
These data were compiled because the information did not previously exist as a single resource for the GPLCC area. They are intended to inform local and regional conservation and management strategies with a complete regional perspective.
Abstract provided by original data sources:
"This file contains one of many raster grids of the Elevation Derivatives for National Applications (EDNA), a multi-layered database that provides systematic and consistent topographically-derived hydrologic derivatives. The aspect grid defines downslope direction. Non-defined aspect (slope = 0) are assigned a value of -1. Aspect values are floating point from 0 to 360 degrees."
Data were the best available at the time of compilation (2011) with current information represented by a combination of national-scale datasets and state or other regional data (e.g. soils) that could be reasonably aggregated.
Single Fused Map Cache: false
Extent:
XMin: -849232.4313999993
YMin: 843080.5355773345
XMax: -21832.431399999303
YMax: 2327210.5355773345
Spatial Reference:
PROJCS["NAD_1983_Albers",GEOGCS["GCS_North_American_1983",DATUM["D_North_American_1983",SPHEROID["GRS_1980",6378137.0,298.257222101]],PRIMEM["Greenwich",0.0],UNIT["Degree",0.0174532925199433]],PROJECTION["Albers"],PARAMETER["false_easting",0.0],PARAMETER["false_northing",0.0],PARAMETER["central_meridian",-96.0],PARAMETER["standard_parallel_1",29.5],PARAMETER["standard_parallel_2",45.5],PARAMETER["latitude_of_origin",23.0],UNIT["Meter",1.0]]
Initial Extent:
XMin: -849232.4313999993
YMin: 843080.5355773345
XMax: -21832.431399999303
YMax: 2327210.5355773345
Spatial Reference:
PROJCS["NAD_1983_Albers",GEOGCS["GCS_North_American_1983",DATUM["D_North_American_1983",SPHEROID["GRS_1980",6378137.0,298.257222101]],PRIMEM["Greenwich",0.0],UNIT["Degree",0.0174532925199433]],PROJECTION["Albers"],PARAMETER["false_easting",0.0],PARAMETER["false_northing",0.0],PARAMETER["central_meridian",-96.0],PARAMETER["standard_parallel_1",29.5],PARAMETER["standard_parallel_2",45.5],PARAMETER["latitude_of_origin",23.0],UNIT["Meter",1.0]]
Full Extent:
XMin: -849232.4313999993
YMin: 843080.5355773345
XMax: -21832.431399999303
YMax: 2327210.5355773345
Spatial Reference:
PROJCS["NAD_1983_Albers",GEOGCS["GCS_North_American_1983",DATUM["D_North_American_1983",SPHEROID["GRS_1980",6378137.0,298.257222101]],PRIMEM["Greenwich",0.0],UNIT["Degree",0.0174532925199433]],PROJECTION["Albers"],PARAMETER["false_easting",0.0],PARAMETER["false_northing",0.0],PARAMETER["central_meridian",-96.0],PARAMETER["standard_parallel_1",29.5],PARAMETER["standard_parallel_2",45.5],PARAMETER["latitude_of_origin",23.0],UNIT["Meter",1.0]]
Pixel Size X: 30.0
Pixel Size Y: 30.0
Band Count: 1
Pixel Type: F32
RasterFunction Infos: {"rasterFunctionInfos": [{
"name": "None",
"description": "",
"help": ""
}]}
Mensuration Capabilities: Basic
Has Histograms: true
Has Colormap: false
Has Multi Dimensions : false
Rendering Rule:
Min Scale: 0
Max Scale: 0
Copyright Text:
Service Data Type: esriImageServiceDataTypeGeneric
Min Values: -1
Max Values: 360
Mean Values: 157.11371253004
Standard Deviation Values: 101.79306985363
Object ID Field:
Fields:
None
Default Mosaic Method: Center
Allowed Mosaic Methods:
SortField:
SortValue: null
Mosaic Operator: First
Default Compression Quality: 75
Default Resampling Method: Bilinear
Max Record Count: null
Max Image Height: 4100
Max Image Width: 15000
Max Download Image Count: null
Max Mosaic Image Count: null
Allow Raster Function: true
Allow Compute TiePoints: false
Supports Statistics: false
Supports Advanced Queries: false
Use StandardizedQueries: true
Raster Type Infos:
Name: Raster Dataset
Description: Supports all ArcGIS Raster Datasets
Help:
Has Raster Attribute Table: false
Edit Fields Info: null
Ownership Based AccessControl For Rasters: null
Child Resources:
Info
Histograms
Key Properties
Legend
MultiDimensionalInfo
rasterFunctionInfos
Supported Operations:
Export Image
Identify
Measure
Compute Histograms
Compute Statistics Histograms
Get Samples
Compute Class Statistics
Query Boundary